Package: PANR Version: 1.53.0 Command: /Library/Frameworks/R.framework/Resources/bin/R CMD INSTALL PANR StartedAt: 2025-02-09 15:08:45 -0500 (Sun, 09 Feb 2025) EndedAt: 2025-02-09 15:09:05 -0500 (Sun, 09 Feb 2025) EllapsedTime: 19.8 seconds RetCode: 0 Status: OK