Package: PANR Version: 1.53.0 Command: /home/biocbuild/bbs-3.21-bioc/R/bin/R CMD build --keep-empty-dirs --no-resave-data PANR StartedAt: 2025-02-04 18:32:52 -0500 (Tue, 04 Feb 2025) EndedAt: 2025-02-04 18:33:09 -0500 (Tue, 04 Feb 2025) EllapsedTime: 17.0 seconds RetCode: 0 Status: OK PackageFile: PANR_1.53.0.tar.gz PackageFileSize: 2.114 MiB