Package: PANR Version: 1.53.0 Command: /home/biocbuild/bbs-3.21-bioc/R/bin/R CMD check --install=check:PANR.install-out.txt --library=/home/biocbuild/bbs-3.21-bioc/R/site-library --timings PANR_1.53.0.tar.gz StartedAt: 2025-02-05 01:16:42 -0500 (Wed, 05 Feb 2025) EndedAt: 2025-02-05 01:17:31 -0500 (Wed, 05 Feb 2025) EllapsedTime: 49.1 seconds RetCode: 0 Status: OK CheckDir: PANR.Rcheck Warnings: 0