Package: PANR Version: 1.53.0 Command: /home/biocbuild/bbs-3.21-bioc/R/bin/R CMD INSTALL PANR StartedAt: 2025-02-04 15:04:44 -0500 (Tue, 04 Feb 2025) EndedAt: 2025-02-04 15:05:10 -0500 (Tue, 04 Feb 2025) EllapsedTime: 25.7 seconds RetCode: 0 Status: OK