Package: PANR Version: 1.53.0 Command: E:\biocbuild\bbs-3.21-bioc\R\bin\R.exe CMD INSTALL PANR StartedAt: 2025-02-09 15:31:23 -0500 (Sun, 09 Feb 2025) EndedAt: 2025-02-09 15:31:48 -0500 (Sun, 09 Feb 2025) EllapsedTime: 25.1 seconds RetCode: 0 Status: OK