Package: PAST Version: 1.23.0 Command: /home/biocbuild/R/R/bin/R CMD build --keep-empty-dirs --no-resave-data PAST StartedAt: 2025-01-29 01:11:10 -0000 (Wed, 29 Jan 2025) EndedAt: 2025-01-29 01:14:29 -0000 (Wed, 29 Jan 2025) EllapsedTime: 199.2 seconds RetCode: 0 Status: OK PackageFile: PAST_1.23.0.tar.gz PackageFileSize: 954.8 KiB