Package: PAST Version: 1.23.0 Command: /home/biocbuild/R/R/bin/R CMD check --install=check:PAST.install-out.txt --library=/home/biocbuild/R/R/site-library --no-vignettes --timings PAST_1.23.0.tar.gz StartedAt: 2025-01-28 13:45:11 -0000 (Tue, 28 Jan 2025) EndedAt: 2025-01-28 13:55:52 -0000 (Tue, 28 Jan 2025) EllapsedTime: 641.8 seconds RetCode: 0 Status: WARNINGS CheckDir: PAST.Rcheck Warnings: 2