Package: PAST Version: 1.23.0 Command: rm -rf PAST.buildbin-libdir && mkdir PAST.buildbin-libdir && /Users/biocbuild/BBS/utils/build-universal.sh PAST_1.23.0.tar.gz /Library/Frameworks/R.framework/Resources/bin/R PAST.buildbin-libdir StartedAt: 2025-02-10 01:07:42 -0500 (Mon, 10 Feb 2025) EndedAt: 2025-02-10 01:08:29 -0500 (Mon, 10 Feb 2025) EllapsedTime: 47.4 seconds RetCode: 0 Status: OK PackageFile: PAST_1.23.0.tgz PackageFileSize: 1008 KiB