Package: PAST Version: 1.23.0 Command: /home/biocbuild/bbs-3.21-bioc/R/bin/R CMD check --install=check:PAST.install-out.txt --library=/home/biocbuild/bbs-3.21-bioc/R/site-library --timings PAST_1.23.0.tar.gz StartedAt: 2025-02-10 01:09:47 -0500 (Mon, 10 Feb 2025) EndedAt: 2025-02-10 01:20:45 -0500 (Mon, 10 Feb 2025) EllapsedTime: 658.1 seconds RetCode: 0 Status: WARNINGS CheckDir: PAST.Rcheck Warnings: 2