Package: PAST Version: 1.23.0 Command: rm -rf PAST.buildbin-libdir && mkdir PAST.buildbin-libdir && E:\biocbuild\bbs-3.21-bioc\R\bin\R.exe CMD INSTALL --build --library=PAST.buildbin-libdir PAST_1.23.0.tar.gz StartedAt: 2025-02-10 08:21:15 -0500 (Mon, 10 Feb 2025) EndedAt: 2025-02-10 08:21:54 -0500 (Mon, 10 Feb 2025) EllapsedTime: 38.7 seconds RetCode: 0 Status: OK PackageFile: PAST_1.23.0.zip PackageFileSize: 1013 KiB