Package: PAST Version: 1.23.0 Command: E:\biocbuild\bbs-3.21-bioc\R\bin\R.exe CMD INSTALL PAST StartedAt: 2025-02-09 16:16:56 -0500 (Sun, 09 Feb 2025) EndedAt: 2025-02-09 16:17:34 -0500 (Sun, 09 Feb 2025) EllapsedTime: 38.0 seconds RetCode: 0 Status: OK