Package: PDATK Version: 1.15.0 Command: /Library/Frameworks/R.framework/Resources/bin/R CMD build --keep-empty-dirs --no-resave-data PDATK StartedAt: 2025-02-04 17:13:58 -0500 (Tue, 04 Feb 2025) EndedAt: 2025-02-04 17:14:43 -0500 (Tue, 04 Feb 2025) EllapsedTime: 44.5 seconds RetCode: 0 Status: OK PackageFile: PDATK_1.15.0.tar.gz PackageFileSize: 3.005 MiB