Package: PDATK Version: 1.15.0 Command: /home/biocbuild/bbs-3.21-bioc/R/bin/R CMD build --keep-empty-dirs --no-resave-data PDATK StartedAt: 2025-02-09 18:37:06 -0500 (Sun, 09 Feb 2025) EndedAt: 2025-02-09 18:38:59 -0500 (Sun, 09 Feb 2025) EllapsedTime: 113.1 seconds RetCode: 0 Status: OK PackageFile: PDATK_1.15.0.tar.gz PackageFileSize: 3.004 MiB