Package: PDATK Version: 1.15.0 Command: rm -rf PDATK.buildbin-libdir && mkdir PDATK.buildbin-libdir && E:\biocbuild\bbs-3.21-bioc\R\bin\R.exe CMD INSTALL --build --library=PDATK.buildbin-libdir PDATK_1.15.0.tar.gz StartedAt: 2025-02-10 08:21:33 -0500 (Mon, 10 Feb 2025) EndedAt: 2025-02-10 08:23:47 -0500 (Mon, 10 Feb 2025) EllapsedTime: 134.3 seconds RetCode: 0 Status: OK PackageFile: PDATK_1.15.0.zip PackageFileSize: 2.554 MiB