Package: PDATK Version: 1.15.0 Command: E:\biocbuild\bbs-3.21-bioc\R\bin\R.exe CMD INSTALL PDATK StartedAt: 2025-02-09 17:00:01 -0500 (Sun, 09 Feb 2025) EndedAt: 2025-02-09 17:01:08 -0500 (Sun, 09 Feb 2025) EllapsedTime: 67.4 seconds RetCode: 0 Status: OK