Package: PECA Version: 1.43.0 Command: rm -rf PECA.buildbin-libdir && mkdir PECA.buildbin-libdir && /Users/biocbuild/BBS/utils/build-universal.sh PECA_1.43.0.tar.gz /Library/Frameworks/R.framework/Resources/bin/R PECA.buildbin-libdir StartedAt: 2025-02-03 23:00:39 -0500 (Mon, 03 Feb 2025) EndedAt: 2025-02-03 23:00:48 -0500 (Mon, 03 Feb 2025) EllapsedTime: 9.3 seconds RetCode: 0 Status: OK PackageFile: PECA_1.43.0.tgz PackageFileSize: 224.6 KiB