Package: PECA Version: 1.43.0 Command: /Library/Frameworks/R.framework/Resources/bin/R CMD build --keep-empty-dirs --no-resave-data PECA StartedAt: 2025-02-09 17:13:51 -0500 (Sun, 09 Feb 2025) EndedAt: 2025-02-09 17:14:08 -0500 (Sun, 09 Feb 2025) EllapsedTime: 17.2 seconds RetCode: 0 Status: OK PackageFile: PECA_1.43.0.tar.gz PackageFileSize: 214.7 KiB