Package: PECA Version: 1.43.0 Command: /Library/Frameworks/R.framework/Resources/bin/R CMD check --install=check:PECA.install-out.txt --library=/Library/Frameworks/R.framework/Resources/library --no-vignettes --timings PECA_1.43.0.tar.gz StartedAt: 2025-02-09 20:36:50 -0500 (Sun, 09 Feb 2025) EndedAt: 2025-02-09 20:37:46 -0500 (Sun, 09 Feb 2025) EllapsedTime: 55.6 seconds RetCode: 0 Status: OK CheckDir: PECA.Rcheck Warnings: 0