Package: PECA Version: 1.43.0 Command: /Library/Frameworks/R.framework/Resources/bin/R CMD INSTALL PECA StartedAt: 2025-02-09 15:19:49 -0500 (Sun, 09 Feb 2025) EndedAt: 2025-02-09 15:19:58 -0500 (Sun, 09 Feb 2025) EllapsedTime: 8.7 seconds RetCode: 0 Status: OK