Package: PECA Version: 1.43.0 Command: /home/biocbuild/R/R/bin/R CMD build --keep-empty-dirs --no-resave-data PECA StartedAt: 2025-01-29 01:14:17 -0000 (Wed, 29 Jan 2025) EndedAt: 2025-01-29 01:15:09 -0000 (Wed, 29 Jan 2025) EllapsedTime: 52.1 seconds RetCode: 0 Status: OK PackageFile: PECA_1.43.0.tar.gz PackageFileSize: 209.5 KiB