Package: PECA Version: 1.43.0 Command: /home/biocbuild/R/R/bin/R CMD check --install=check:PECA.install-out.txt --library=/home/biocbuild/R/R/site-library --no-vignettes --timings PECA_1.43.0.tar.gz StartedAt: 2025-01-28 13:48:31 -0000 (Tue, 28 Jan 2025) EndedAt: 2025-01-28 13:51:37 -0000 (Tue, 28 Jan 2025) EllapsedTime: 186.3 seconds RetCode: 0 Status: OK CheckDir: PECA.Rcheck Warnings: 0