Package: PECA Version: 1.43.0 Command: /home/biocbuild/R/R/bin/R CMD INSTALL PECA StartedAt: 2025-01-29 20:16:21 -0000 (Wed, 29 Jan 2025) EndedAt: 2025-01-29 20:16:51 -0000 (Wed, 29 Jan 2025) EllapsedTime: 29.7 seconds RetCode: 0 Status: OK