Package: PECA Version: 1.43.0 Command: rm -rf PECA.buildbin-libdir && mkdir PECA.buildbin-libdir && /Users/biocbuild/BBS/utils/build-universal.sh PECA_1.43.0.tar.gz /Library/Frameworks/R.framework/Resources/bin/R PECA.buildbin-libdir StartedAt: 2025-02-04 00:48:11 -0500 (Tue, 04 Feb 2025) EndedAt: 2025-02-04 00:48:42 -0500 (Tue, 04 Feb 2025) EllapsedTime: 31.2 seconds RetCode: 0 Status: OK PackageFile: PECA_1.43.0.tgz PackageFileSize: 224 KiB