Package: PECA Version: 1.43.0 Command: /Library/Frameworks/R.framework/Resources/bin/R CMD check --install=check:PECA.install-out.txt --library=/Library/Frameworks/R.framework/Resources/library --no-vignettes --timings PECA_1.43.0.tar.gz StartedAt: 2025-02-03 22:22:48 -0500 (Mon, 03 Feb 2025) EndedAt: 2025-02-03 22:25:33 -0500 (Mon, 03 Feb 2025) EllapsedTime: 165.3 seconds RetCode: 0 Status: OK CheckDir: PECA.Rcheck Warnings: 0