Package: PECA Version: 1.43.0 Command: /home/biocbuild/bbs-3.21-bioc/R/bin/R CMD check --install=check:PECA.install-out.txt --library=/home/biocbuild/bbs-3.21-bioc/R/site-library --timings PECA_1.43.0.tar.gz StartedAt: 2025-02-10 01:13:03 -0500 (Mon, 10 Feb 2025) EndedAt: 2025-02-10 01:16:05 -0500 (Mon, 10 Feb 2025) EllapsedTime: 182.2 seconds RetCode: 0 Status: OK CheckDir: PECA.Rcheck Warnings: 0