Package: PECA Version: 1.43.0 Command: rm -rf PECA.buildbin-libdir && mkdir PECA.buildbin-libdir && E:\biocbuild\bbs-3.21-bioc\R\bin\R.exe CMD INSTALL --build --library=PECA.buildbin-libdir PECA_1.43.0.tar.gz StartedAt: 2025-02-10 08:21:47 -0500 (Mon, 10 Feb 2025) EndedAt: 2025-02-10 08:22:20 -0500 (Mon, 10 Feb 2025) EllapsedTime: 33.2 seconds RetCode: 0 Status: OK PackageFile: PECA_1.43.0.zip PackageFileSize: 139 KiB