Package: PECA Version: 1.43.0 Command: chmod a+r PECA -R && E:\biocbuild\bbs-3.21-bioc\R\bin\R.exe CMD build --keep-empty-dirs --no-resave-data PECA StartedAt: 2025-02-03 20:52:40 -0500 (Mon, 03 Feb 2025) EndedAt: 2025-02-03 20:53:25 -0500 (Mon, 03 Feb 2025) EllapsedTime: 45.2 seconds RetCode: 0 Status: OK PackageFile: PECA_1.43.0.tar.gz PackageFileSize: 127.4 KiB