Package: PECA Version: 1.43.0 Command: E:\biocbuild\bbs-3.21-bioc\R\bin\R.exe CMD INSTALL PECA StartedAt: 2025-02-09 15:56:47 -0500 (Sun, 09 Feb 2025) EndedAt: 2025-02-09 15:57:13 -0500 (Sun, 09 Feb 2025) EllapsedTime: 25.7 seconds RetCode: 0 Status: OK