Package: PICB Version: 0.99.15 Maintainer: Franziska Ahrend MaintainerEmail: haase-lab-bioinfo at nih.gov git_url: https://git.bioconductor.org/packages/PICB git_branch: devel git_last_commit: 7163d82 git_last_commit_date: 2025-02-06 14:02:48 -0500 (Thu, 06 Feb 2025)