Package: PICB Version: 0.99.14 Command: /Library/Frameworks/R.framework/Resources/bin/R CMD check --install=check:PICB.install-out.txt --library=/Library/Frameworks/R.framework/Resources/library --no-vignettes --timings PICB_0.99.14.tar.gz StartedAt: 2025-02-04 20:41:35 -0500 (Tue, 04 Feb 2025) EndedAt: 2025-02-04 20:45:34 -0500 (Tue, 04 Feb 2025) EllapsedTime: 238.9 seconds RetCode: 0 Status: OK CheckDir: PICB.Rcheck Warnings: 0