############################################################################## ############################################################################## ### ### Running command: ### ### rm -rf PICB.buildbin-libdir && mkdir PICB.buildbin-libdir && /Users/biocbuild/BBS/utils/build-universal.sh PICB_0.99.14.tar.gz /Library/Frameworks/R.framework/Resources/bin/R PICB.buildbin-libdir ### ############################################################################## ############################################################################## >>>>>>> >>>>>>> INSTALLATION WITH 'R CMD INSTALL --preclean --no-multiarch --library=PICB.buildbin-libdir PICB_0.99.14.tar.gz' >>>>>>> * installing *source* package ‘PICB’ ... ** this is package ‘PICB’ version ‘0.99.14’ ** using staged installation ** R ** inst ** byte-compile and prepare package for lazy loading ** help *** installing help indices ** building package indices ** installing vignettes ** testing if installed package can be loaded from temporary location ** testing if installed package can be loaded from final location ** testing if installed package keeps a record of temporary installation path * DONE (PICB)