Package: PICB Version: 0.99.15 Command: /Library/Frameworks/R.framework/Resources/bin/R CMD INSTALL PICB StartedAt: 2025-02-09 15:42:19 -0500 (Sun, 09 Feb 2025) EndedAt: 2025-02-09 15:42:23 -0500 (Sun, 09 Feb 2025) EllapsedTime: 3.8 seconds RetCode: 0 Status: OK