Package: PICB Version: 0.99.15 Command: /home/biocbuild/bbs-3.21-bioc/R/bin/R CMD build --keep-empty-dirs --no-resave-data PICB StartedAt: 2025-02-09 18:40:03 -0500 (Sun, 09 Feb 2025) EndedAt: 2025-02-09 18:41:35 -0500 (Sun, 09 Feb 2025) EllapsedTime: 92.1 seconds RetCode: 0 Status: OK PackageFile: PICB_0.99.15.tar.gz PackageFileSize: 4.674 MiB