Package: PICB Version: 0.99.14 Command: chmod a+r PICB -R && E:\biocbuild\bbs-3.21-bioc\R\bin\R.exe CMD build --keep-empty-dirs --no-resave-data PICB StartedAt: 2025-02-04 20:47:42 -0500 (Tue, 04 Feb 2025) EndedAt: 2025-02-04 20:49:42 -0500 (Tue, 04 Feb 2025) EllapsedTime: 119.9 seconds RetCode: 0 Status: OK PackageFile: PICB_0.99.14.tar.gz PackageFileSize: 4.609 MiB