Package: PICS Version: 2.51.0 Command: /Library/Frameworks/R.framework/Resources/bin/R CMD build --keep-empty-dirs --no-resave-data PICS StartedAt: 2025-02-09 17:58:00 -0500 (Sun, 09 Feb 2025) EndedAt: 2025-02-09 17:58:07 -0500 (Sun, 09 Feb 2025) EllapsedTime: 6.9 seconds RetCode: 1 Status: ERROR PackageFile: None PackageFileSize: NA