Package: PICS Version: 2.51.0 Command: /Library/Frameworks/R.framework/Resources/bin/R CMD INSTALL PICS StartedAt: 2025-02-09 15:16:23 -0500 (Sun, 09 Feb 2025) EndedAt: 2025-02-09 15:16:34 -0500 (Sun, 09 Feb 2025) EllapsedTime: 11.0 seconds RetCode: 1 Status: ERROR