Package: PICS Version: 2.51.0 Command: /home/biocbuild/bbs-3.21-bioc/R/bin/R CMD INSTALL PICS StartedAt: 2025-02-12 15:26:18 -0500 (Wed, 12 Feb 2025) EndedAt: 2025-02-12 15:26:22 -0500 (Wed, 12 Feb 2025) EllapsedTime: 3.8 seconds RetCode: 1 Status: ERROR