Package: PING Version: 2.51.0 Command: /Library/Frameworks/R.framework/Resources/bin/R CMD build --keep-empty-dirs --no-resave-data PING StartedAt: 2025-02-04 17:15:26 -0500 (Tue, 04 Feb 2025) EndedAt: 2025-02-04 17:15:27 -0500 (Tue, 04 Feb 2025) EllapsedTime: 1.0 seconds RetCode: 0 Status: OK PackageFile: PING_2.51.0.tar.gz PackageFileSize: 4.51 MiB