Package: PING Version: 2.51.0 Command: /Library/Frameworks/R.framework/Resources/bin/R CMD INSTALL PING StartedAt: 2025-02-04 15:29:53 -0500 (Tue, 04 Feb 2025) EndedAt: 2025-02-04 15:29:54 -0500 (Tue, 04 Feb 2025) EllapsedTime: 1.0 seconds RetCode: 1 Status: ERROR