Package: PING Version: 2.51.0 Command: /home/biocbuild/R/R/bin/R CMD build --keep-empty-dirs --no-resave-data PING StartedAt: 2025-01-29 01:17:34 -0000 (Wed, 29 Jan 2025) EndedAt: 2025-01-29 01:17:36 -0000 (Wed, 29 Jan 2025) EllapsedTime: 2.0 seconds RetCode: 0 Status: OK PackageFile: PING_2.51.0.tar.gz PackageFileSize: 4.51 MiB