Package: PING Version: 2.51.0 Command: /home/biocbuild/R/R/bin/R CMD INSTALL PING StartedAt: 2025-01-29 20:37:17 -0000 (Wed, 29 Jan 2025) EndedAt: 2025-01-29 20:37:18 -0000 (Wed, 29 Jan 2025) EllapsedTime: 1.0 seconds RetCode: 1 Status: ERROR