############################################################################## ############################################################################## ### ### Running command: ### ### rm -rf PING.buildbin-libdir && mkdir PING.buildbin-libdir && /Users/biocbuild/BBS/utils/build-universal.sh PING_2.51.0.tar.gz /Library/Frameworks/R.framework/Resources/bin/R PING.buildbin-libdir ### ############################################################################## ############################################################################## >>>>>>> >>>>>>> INSTALLATION WITH 'R CMD INSTALL --preclean --no-multiarch --library=PING.buildbin-libdir PING_2.51.0.tar.gz' >>>>>>> ERROR: dependency ‘PICS’ is not available for package ‘PING’ Perhaps try a variation of: install.packages('PICS') * removing ‘/Users/biocbuild/bbs-3.21-bioc/meat/PING.buildbin-libdir/PING’