Package: PING Version: 2.51.0 Command: rm -rf PING.buildbin-libdir && mkdir PING.buildbin-libdir && /Users/biocbuild/BBS/utils/build-universal.sh PING_2.51.0.tar.gz /Library/Frameworks/R.framework/Resources/bin/R PING.buildbin-libdir StartedAt: 2025-02-05 00:54:26 -0500 (Wed, 05 Feb 2025) EndedAt: 2025-02-05 00:54:29 -0500 (Wed, 05 Feb 2025) EllapsedTime: 2.4 seconds RetCode: 1 Status: ERROR PackageFile: None PackageFileSize: NA