Package: PING Version: 2.51.0 Command: /Library/Frameworks/R.framework/Resources/bin/R CMD INSTALL PING StartedAt: 2025-02-04 15:44:31 -0500 (Tue, 04 Feb 2025) EndedAt: 2025-02-04 15:44:32 -0500 (Tue, 04 Feb 2025) EllapsedTime: 1.2 seconds RetCode: 1 Status: ERROR