Package: PING Version: 2.51.0 Command: /home/biocbuild/bbs-3.21-bioc/R/bin/R CMD check --install=check:PING.install-out.txt --library=/home/biocbuild/bbs-3.21-bioc/R/site-library --timings PING_2.51.0.tar.gz StartedAt: 2025-02-05 01:27:12 -0500 (Wed, 05 Feb 2025) EndedAt: 2025-02-05 01:27:17 -0500 (Wed, 05 Feb 2025) EllapsedTime: 5.0 seconds RetCode: 1 Status: ERROR CheckDir: PING.Rcheck Warnings: NA