Package: PING Version: 2.51.0 Command: chmod a+r PING -R && E:\biocbuild\bbs-3.21-bioc\R\bin\R.exe CMD build --keep-empty-dirs --no-resave-data PING StartedAt: 2025-02-09 20:45:37 -0500 (Sun, 09 Feb 2025) EndedAt: 2025-02-09 20:45:41 -0500 (Sun, 09 Feb 2025) EllapsedTime: 3.8 seconds RetCode: 0 Status: OK PackageFile: PING_2.51.0.tar.gz PackageFileSize: 4.51 MiB