Package: PING Version: 2.51.0 Command: E:\biocbuild\bbs-3.21-bioc\R\bin\R.exe CMD check --no-multiarch --install=check:PING.install-out.txt --library=E:\biocbuild\bbs-3.21-bioc\R\library --no-vignettes --timings PING_2.51.0.tar.gz StartedAt: 2025-02-10 04:06:41 -0500 (Mon, 10 Feb 2025) EndedAt: 2025-02-10 04:06:45 -0500 (Mon, 10 Feb 2025) EllapsedTime: 4.0 seconds RetCode: 1 Status: ERROR CheckDir: PING.Rcheck Warnings: NA