Package: PING Version: 2.51.0 Command: E:\biocbuild\bbs-3.21-bioc\R\bin\R.exe CMD INSTALL PING StartedAt: 2025-02-09 16:59:57 -0500 (Sun, 09 Feb 2025) EndedAt: 2025-02-09 16:59:58 -0500 (Sun, 09 Feb 2025) EllapsedTime: 0.9 seconds RetCode: 1 Status: ERROR