Package: PIUMA Version: 1.3.0 Command: /Library/Frameworks/R.framework/Resources/bin/R CMD INSTALL PIUMA StartedAt: 2025-02-04 15:15:54 -0500 (Tue, 04 Feb 2025) EndedAt: 2025-02-04 15:16:06 -0500 (Tue, 04 Feb 2025) EllapsedTime: 11.8 seconds RetCode: 0 Status: OK