Package: PIUMA Version: 1.3.0 Command: rm -rf PIUMA.buildbin-libdir && mkdir PIUMA.buildbin-libdir && /Users/biocbuild/BBS/utils/build-universal.sh PIUMA_1.3.0.tar.gz /Library/Frameworks/R.framework/Resources/bin/R PIUMA.buildbin-libdir StartedAt: 2025-02-10 01:08:25 -0500 (Mon, 10 Feb 2025) EndedAt: 2025-02-10 01:09:06 -0500 (Mon, 10 Feb 2025) EllapsedTime: 41.7 seconds RetCode: 0 Status: OK PackageFile: PIUMA_1.3.0.tgz PackageFileSize: 3.337 MiB